BEGIN:VCALENDAR
METHOD:PUBLISH
PRODID:-//Weblication CMS
VERSION:2.0
BEGIN:VEVENT
SUMMARY:Treffen bei Firma IPAS in Duisburg
DTSTART;VALUE=DATE:20160929
DTEND;VALUE=DATE:20161001
DESCRIPTION:
LOCATION:
UID:https://www.knx.org/knx-professionals/veranstaltungen/termine/Treffen-bei-Firma-IPAS-in-Duisburg.php
URL:https://www.knx.org/knx-professionals/veranstaltungen/termine/Treffen-bei-Firma-IPAS-in-Duisburg.php
END:VEVENT
END:VCALENDAR