BEGIN:VCALENDAR
METHOD:PUBLISH
PRODID:-//Weblication CMS
VERSION:2.0
BEGIN:VEVENT
SUMMARY:Sommertreffen 2014
DTSTART;VALUE=DATE:20140626
DTEND;VALUE=DATE:20140629
DESCRIPTION:
LOCATION:
UID:https://www.knx.org/knx-professionals/veranstaltungen/termine/Sommertreffen-2014.php
URL:https://www.knx.org/knx-professionals/veranstaltungen/termine/Sommertreffen-2014.php
END:VEVENT
END:VCALENDAR