BEGIN:VCALENDAR
METHOD:PUBLISH
PRODID:-//Weblication CMS
VERSION:2.0
BEGIN:VEVENT
SUMMARY:Sommertreffen in Fulda
DTSTART;VALUE=DATE:20230629
DTEND;VALUE=DATE:20230703
DESCRIPTION:Die Einladung steht zur Verfügung
LOCATION:Fulda
UID:https://www.knx.org/knx-professionals/veranstaltungen/termine/8019251349.php
URL:https://www.knx.org/knx-professionals/veranstaltungen/termine/8019251349.php
END:VEVENT
END:VCALENDAR