BEGIN:VCALENDAR
METHOD:PUBLISH
PRODID:-//Weblication CMS
VERSION:2.0
BEGIN:VEVENT
SUMMARY:Sommertreffen in Lübeck
DTSTART:20210701T190000
DTEND:20210704T100000
DESCRIPTION:Die Anmeldefrist für das Sommertreffen bis 06.06.2021 verlängert! weitere Informationen folgen
LOCATION:
UID:https://www.knx.org/knx-professionals/veranstaltungen/termine/5602482038.php
URL:https://www.knx.org/knx-professionals/veranstaltungen/termine/5602482038.php
END:VEVENT
END:VCALENDAR