BEGIN:VCALENDAR
METHOD:PUBLISH
PRODID:-//Weblication CMS
VERSION:2.0
BEGIN:VEVENT
SUMMARY:IFA 
DTSTART;VALUE=DATE:20230901
DTEND;VALUE=DATE:20230906
DESCRIPTION:IFA bleibt in Berlin und schlägt neues Kapitel auf Die drei Vertragsparteien haben sich geeinigt: Die weltweit bedeutendste Messe für Consumer Electronics und Home Appliances bleibt an ihrem Traditionsstandort, dem Messegelände am Berliner Funkturm. Verantwortet wird die Veranstaltung künftig von der neugegründeten IFA Management GmbH. Dabei handelt es sich um ein Joint Venture, das die gfu Consumer & Home Electronics GmbH gemeinsam mit Clarion Events Ltd, einem der weltweit führenden, unabhängigen Event-Veranstalter, gegründet hat.
LOCATION:Berlin
UID:https://www.knx.org/knx-professionals/veranstaltungen/termine/5487265498.php
URL:https://www.knx.org/knx-professionals/veranstaltungen/termine/5487265498.php
END:VEVENT
END:VCALENDAR