BEGIN:VCALENDAR
METHOD:PUBLISH
PRODID:-//Weblication CMS
VERSION:2.0
BEGIN:VEVENT
SUMMARY:Light + Building 2024
DTSTART:20240303T000000
DTEND:20240308T235959
DESCRIPTION:internationaler Branchentreff zum Thema Lichttrends in all ihren Facetten, die Elektrifizierung und Digitalisierung der Haus- und Gebäudetechnik sowie vernetzte Sicherheitstechnik
LOCATION:Frankfurt am Main
UID:https://www.knx.org/knx-professionals/veranstaltungen/termine/2728546852.php
URL:https://www.knx.org/knx-professionals/veranstaltungen/termine/2728546852.php
END:VEVENT
END:VCALENDAR