BEGIN:VCALENDAR
METHOD:PUBLISH
PRODID:-//Weblication CMS
VERSION:2.0
BEGIN:VEVENT
SUMMARY:Schneider Electric
DTSTART:20250221T000000
DTEND:20250222T235959
DESCRIPTION:
LOCATION:
UID:https://www.knx.org/knx-professionals/veranstaltungen/termine/1820669258.php
URL:https://www.knx.org/knx-professionals/veranstaltungen/termine/1820669258.php
END:VEVENT
END:VCALENDAR